BEGIN:VCALENDAR
VERSION:2.0
PRODID:-//Salish Mushrooms - ECPv6.15.20//NONSGML v1.0//EN
CALSCALE:GREGORIAN
METHOD:PUBLISH
X-WR-CALNAME:Salish Mushrooms
X-ORIGINAL-URL:https://salishmushrooms.com
X-WR-CALDESC:Events for Salish Mushrooms
REFRESH-INTERVAL;VALUE=DURATION:PT1H
X-Robots-Tag:noindex
X-PUBLISHED-TTL:PT1H
BEGIN:VTIMEZONE
TZID:America/Los_Angeles
BEGIN:DAYLIGHT
TZOFFSETFROM:-0800
TZOFFSETTO:-0700
TZNAME:PDT
DTSTART:20250309T100000
END:DAYLIGHT
BEGIN:STANDARD
TZOFFSETFROM:-0700
TZOFFSETTO:-0800
TZNAME:PST
DTSTART:20251102T090000
END:STANDARD
BEGIN:DAYLIGHT
TZOFFSETFROM:-0800
TZOFFSETTO:-0700
TZNAME:PDT
DTSTART:20260308T100000
END:DAYLIGHT
BEGIN:STANDARD
TZOFFSETFROM:-0700
TZOFFSETTO:-0800
TZNAME:PST
DTSTART:20261101T090000
END:STANDARD
BEGIN:DAYLIGHT
TZOFFSETFROM:-0800
TZOFFSETTO:-0700
TZNAME:PDT
DTSTART:20270314T100000
END:DAYLIGHT
BEGIN:STANDARD
TZOFFSETFROM:-0700
TZOFFSETTO:-0800
TZNAME:PST
DTSTART:20271107T090000
END:STANDARD
END:VTIMEZONE
BEGIN:VEVENT
DTSTART;TZID=America/Los_Angeles:20260425T100000
DTEND;TZID=America/Los_Angeles:20260425T130000
DTSTAMP:20260422T221659
CREATED:20260114T020259Z
LAST-MODIFIED:20260319T172038Z
UID:34138-1777111200-1777122000@salishmushrooms.com
SUMMARY:Darrington Mushroom Foray
DESCRIPTION:Cascade Spring Foray\nKick off mushroom season in Darrington. The soil will be just waking up after a cool winter\, so we’ll be catching the first mushrooms of the year. Get outside with other mushroom lovers and explore some new spots. \nWe may find some edibles\, but the focus is on learning — we’ll gather species for display at the afternoon workshop back in town. \nWhat You’ll Get\n\nHands-on identification practice in the field\nNavigation tips for finding productive spots\nLearn about the local forest ecology\nConnect with other foragers\n\n\n$30 per person \nSales tax added at checkout · Limited spots \nGet Tickets \n\n\nContinue the day \nJoin us in the afternoon at the Darrington Grange for a mushroom workshop with species displays\, ID practice\, tastings\, and morel map review. \n\nView Afternoon Workshop →\n \n\n\nAbout The Host\n\n \n\nJeremy Collison \nFounder of Salish Mushrooms. Teaching and guiding mushroom tours since 2019. Continuing Education instructor at North Seattle College\, Cascades tour guide\, and creator of the Forayz mushroom map.
URL:https://salishmushrooms.com/event/cascade-spring-foray/
LOCATION:Mansford Grange\, 1265 Railroad Ave\, Darrington\, 98241\, United States
CATEGORIES:Guided Tour
ORGANIZER;CN="Salish Mushrooms":MAILTO:jeremy@salishmushrooms.com
END:VEVENT
BEGIN:VEVENT
DTSTART;TZID=America/Los_Angeles:20260425T140000
DTEND;TZID=America/Los_Angeles:20260425T170000
DTSTAMP:20260422T221659
CREATED:20260116T000541Z
LAST-MODIFIED:20260319T172223Z
UID:34144-1777125600-1777136400@salishmushrooms.com
SUMMARY:Darrington Spring Mushroom Workshop
DESCRIPTION:Spring Mushroom Workshop\nJoin us at the Darrington Grange for a hands-on mushroom class featuring identification practice\, species displays\, and a short walk in near the Grange to find mushrooms. \nWhat’s Included\n\nIntro to popular edibles: morels\, oysters\, & boletes\nOther spring species worth knowing\nHands-on identification practice\nShort foraging walk outside the Grange\nMap review for morel suggestions (eastern Cascades)\nMushroom tasting\n\n\n$25 per person \nSales tax added at checkout \nGet Tickets \n\n\nWant more field time? \nJoin the morning foray to forage\, to practice identification in the field and help gather mushrooms for our afternoon workshop. The foray event is an all-outdoor guided tour. \n\nView Morning Foray →\n \n\n\nAbout The Host\n\n \n\nJeremy Collison \nFounder of Salish Mushrooms. Teaching and guiding mushroom tours since 2019. Continuing Education instructor at North Seattle College\, Cascades tour guide\, and creator of the Forayz mushroom map.
URL:https://salishmushrooms.com/event/darrington-spring-mushroom-workshop/
LOCATION:Mansford Grange\, 1265 Railroad Ave\, Darrington\, 98241\, United States
CATEGORIES:In-Person Classes,Mushroom Show
ORGANIZER;CN="Salish Mushrooms":MAILTO:jeremy@salishmushrooms.com
END:VEVENT
BEGIN:VEVENT
DTSTART;TZID=America/Los_Angeles:20260425T140000
DTEND;TZID=America/Los_Angeles:20260425T170000
DTSTAMP:20260422T221659
CREATED:20260406T192930Z
LAST-MODIFIED:20260406T192930Z
UID:35046-1777125600-1777136400@salishmushrooms.com
SUMMARY:Darrington Afternoon Foray
DESCRIPTION:Join us for an afternoon spring mushroom tour near Darrington\, WA.\n     \n\n \nDogsI'm sorry\, no dogs on our tours in the national forest\n\n\n\n What to Bring\n\nSturdy waterproof hiking boots\nRain jacket and warm layers\nA basket or breathable bag for collecting\nWater and snacks\nA small folding knife (optional)\n\n\n\n Book Your Spot\n$35/personBuy Tickets\n\n Weather Policy: Tours run rain or shine in typical Pacific Northwest weather. If lightning\, high winds\, or unsafe trail conditions are forecast\, the tour will be rescheduled or refunded in full. \n Exact Meetup Location: Provided to registered participants 24–48 hours before the tour. General area is Darrington area. \n Age & Fitness: Suitable for all ages comfortable with light trail walking. Children must be accompanied by an adult. \n\n\n Common Questions\n\nIs this suitable for complete beginners?\nAbsolutely. No foraging experience is needed — tours are designed to work for total beginners and experienced foragers alike. We start with the basics and build from there. \n\n\nAre you guaranteed to find mushrooms?\nForaging is a real outdoor experience\, not a staged event — conditions vary and nature doesn’t guarantee finds. That said\, we know where to look and the skills you’ll gain are yours to keep regardless of what we find. Most tours produce a good haul in season. \n\n\nWhat is the cancellation policy?\nTours run rain or shine in normal PNW conditions. If we need to cancel due to unsafe weather or low enrollment\, you’ll receive a full refund or credit toward a future tour. Please contact us at least 48 hours in advance if you need to cancel your booking. \n\n\nCan I keep what we find?\nYes — anything we harvest together is yours to take home and eat. We’ll also share tips on safe cleaning\, storage\, and cooking for whatever species we find. \n\n\n\nAbout The Host\n \n\nJeremy Collison \nFounder of Salish Mushrooms. Teaching and guiding mushroom tours since 2019. Continuing Education instructor at North Seattle College\, and creator of the Forayz mushroom map and ForayzU identification flashcards. See all upcoming tours & events. \n\n\n\n\nContinue Your Foraging Journey\n \nForayz MapTrack soil conditions\, past burns\, and public lands year-round on web\, iOS\, and Android.\n \nOnline CoursesSelf-paced identification and ecology courses — free and Pro tiers available.\n \nAll Upcoming ToursView the full schedule of guided forays\, workshops\, and field trips.
URL:https://salishmushrooms.com/event/darrington-afternoon-foray/
END:VEVENT
BEGIN:VEVENT
DTSTART;TZID=America/Los_Angeles:20260426T090000
DTEND;TZID=America/Los_Angeles:20260426T130000
DTSTAMP:20260422T221659
CREATED:20260402T021254Z
LAST-MODIFIED:20260420T185403Z
UID:34984-1777194000-1777208400@salishmushrooms.com
SUMMARY:Darrington Foray
DESCRIPTION:Cascade Spring Foray\nKick off mushroom season in Darrington. The soil will be just waking up after a cool winter\, so we’ll be catching the first mushrooms of the year. Get outside with other mushroom lovers and explore some new spots. \nWe may find some edibles\, but the focus is on learning — we’ll gather species for display at the afternoon workshop back in town. \nWhat You’ll Get\n\nHands-on identification practice in the field\nNavigation tips for finding productive spots\nLearn about the local forest ecology\nConnect with other foragers\n\n\n$30 per person \nSales tax added at checkout · Limited spots \nGet Tickets \n\n\nAbout The Host\n\n \n\nJeremy Collison \nFounder of Salish Mushrooms. Teaching and guiding mushroom tours since 2019. Continuing Education instructor at North Seattle College\, Cascades tour guide\, and creator of the Forayz mushroom map.
URL:https://salishmushrooms.com/event/darrington-foray/
LOCATION:Darrington Area\, Darrington\, WA\, 98241\, United States
CATEGORIES:Guided Tour
ATTACH;FMTTYPE=image/jpeg:https://salishmushrooms.com/wp-content/uploads/2022/03/verpa-3.jpg
ORGANIZER;CN="Salish Mushrooms":MAILTO:jeremy@salishmushrooms.com
END:VEVENT
BEGIN:VEVENT
DTSTART;TZID=America/Los_Angeles:20260502T100000
DTEND;TZID=America/Los_Angeles:20260502T130000
DTSTAMP:20260422T221659
CREATED:20260421T003900Z
LAST-MODIFIED:20260421T003901Z
UID:35075-1777716000-1777726800@salishmushrooms.com
SUMMARY:Morel Tour
DESCRIPTION:Morel season has arrived in the eastern Cascades. Join us for a tour to go search for these wonderful spring mushrooms\n     \n\n \nDogsI'm sorry\, no dogs on our tours in the national forest\n\n\n\n What to Bring\n\nSturdy waterproof hiking boots\nRain jacket and warm layers\nA basket or breathable bag for collecting\nWater and snacks\nA small folding knife (optional)\n\n\n\n Book Your Spot\n$100/personBuy Tickets\n\n Weather Policy: Tours run rain or shine in typical Pacific Northwest weather. If lightning\, high winds\, or unsafe trail conditions are forecast\, the tour will be rescheduled or refunded in full. \n Exact Meetup Location: Provided to registered participants 24–48 hours before the tour. General area is Leavenworth Area. \n Age & Fitness: Suitable for all ages comfortable with light trail walking. Children must be accompanied by an adult. \n\n\n Common Questions\n\nIs this suitable for complete beginners?\nAbsolutely. No foraging experience is needed — tours are designed to work for total beginners and experienced foragers alike. We start with the basics and build from there. \n\n\nAre you guaranteed to find mushrooms?\nForaging is a real outdoor experience\, not a staged event — conditions vary and nature doesn’t guarantee finds. That said\, we know where to look and the skills you’ll gain are yours to keep regardless of what we find. Most tours produce a good haul in season. \n\n\nWhat is the cancellation policy?\nTours run rain or shine in normal PNW conditions. If we need to cancel due to unsafe weather or low enrollment\, you’ll receive a full refund or credit toward a future tour. Please contact us at least 48 hours in advance if you need to cancel your booking. \n\n\nCan I keep what we find?\nYes — anything we harvest together is yours to take home and eat. We’ll also share tips on safe cleaning\, storage\, and cooking for whatever species we find. \n\n\n\nAbout The Host\n \n\nJeremy Collison \nFounder of Salish Mushrooms. Teaching and guiding mushroom tours since 2019. Continuing Education instructor at North Seattle College\, and creator of the Forayz mushroom map and ForayzU identification flashcards. See all upcoming tours & events. \n\n\n\n\nContinue Your Foraging Journey\n \nForayz MapTrack soil conditions\, past burns\, and public lands year-round on web\, iOS\, and Android.\n \nOnline CoursesSelf-paced identification and ecology courses — free and Pro tiers available.\n \nAll Upcoming ToursView the full schedule of guided forays\, workshops\, and field trips.
URL:https://salishmushrooms.com/event/morel-tour/
END:VEVENT
END:VCALENDAR